BEGIN:VCALENDAR
PRODID;X-RICAL-TZSOURCE=TZINFO:-//com.denhaven2/NONSGML ri_cal gem//EN
CALSCALE:GREGORIAN
VERSION:2.0
BEGIN:VEVENT
DTEND;VALUE=DATE-TIME:20190423T190000Z
DTSTART;VALUE=DATE-TIME:20190423T150000Z
DESCRIPTION:Holiday Inn Cleveland-S Independence
URL:https://jobfairsnearme.com/job_fairs/04-slash-23-slash-2019-jobnewsus
 a-dot-com-cleveland-job-fair-april-23rd-apr-23-2019
SUMMARY:JobNewsUSA.com Cleveland Job Fair - April 23rd
LOCATION:6001 Rockside Road Independence\, Ohio 44131
BEGIN:VALARM
DESCRIPTION:JobNewsUSA.com Cleveland Job Fair - April 23rd
END:VALARM
END:VEVENT
END:VCALENDAR
